BEGIN:VCALENDAR
VERSION:2.0
PRODID:-//Silver Swan Bayside - ECPv6.15.20//NONSGML v1.0//EN
CALSCALE:GREGORIAN
METHOD:PUBLISH
X-WR-CALNAME:Silver Swan Bayside
X-ORIGINAL-URL:https://silverswanbayside.com
X-WR-CALDESC:Events for Silver Swan Bayside
REFRESH-INTERVAL;VALUE=DURATION:PT1H
X-Robots-Tag:noindex
X-PUBLISHED-TTL:PT1H
BEGIN:VTIMEZONE
TZID:UTC
BEGIN:STANDARD
TZOFFSETFROM:+0000
TZOFFSETTO:+0000
TZNAME:UTC
DTSTART:20230101T000000
END:STANDARD
END:VTIMEZONE
BEGIN:VEVENT
DTSTART;TZID=UTC:20240418T150000
DTEND;TZID=UTC:20240418T220000
DTSTAMP:20260424T212137
CREATED:20230716T002518Z
LAST-MODIFIED:20230716T002518Z
UID:3626-1713452400-1713477600@silverswanbayside.com
SUMMARY:Private Event
DESCRIPTION:
URL:https://silverswanbayside.com/event/private-event-46/
LOCATION:Silver Swan Bayside\, 412 Congressional Drive\, Stevensville\, MD\, 21666\, United States
CATEGORIES:Private Event
ORGANIZER;CN="Silver Swan Bayside + Chesapeake Chef Service":MAILTO:info@silverswanbaysideqam.com
END:VEVENT
BEGIN:VEVENT
DTSTART;TZID=UTC:20240424T150000
DTEND;TZID=UTC:20240424T220000
DTSTAMP:20260424T212137
CREATED:20230531T203053Z
LAST-MODIFIED:20230531T203053Z
UID:3107-1713970800-1713996000@silverswanbayside.com
SUMMARY:Private Event
DESCRIPTION:
URL:https://silverswanbayside.com/event/private-event-30/
LOCATION:Silver Swan Bayside\, 412 Congressional Drive\, Stevensville\, MD\, 21666\, United States
CATEGORIES:Private Event
ORGANIZER;CN="Silver Swan Bayside + Chesapeake Chef Service":MAILTO:info@silverswanbaysideqam.com
END:VEVENT
BEGIN:VEVENT
DTSTART;TZID=UTC:20240425T140000
DTEND;TZID=UTC:20240425T220000
DTSTAMP:20260424T212137
CREATED:20231010T151455Z
LAST-MODIFIED:20231010T151710Z
UID:3718-1714053600-1714082400@silverswanbayside.com
SUMMARY:Private Event
DESCRIPTION:
URL:https://silverswanbayside.com/event/private-event-63/
LOCATION:Silver Swan Bayside\, 412 Congressional Drive\, Stevensville\, MD\, 21666\, United States
CATEGORIES:Private Event
ORGANIZER;CN="Silver Swan Bayside + Chesapeake Chef Service":MAILTO:info@silverswanbaysideqam.com
END:VEVENT
END:VCALENDAR