BEGIN:VCALENDAR
VERSION:2.0
PRODID:-//Silver Swan Bayside - ECPv6.15.20//NONSGML v1.0//EN
CALSCALE:GREGORIAN
METHOD:PUBLISH
X-ORIGINAL-URL:https://silverswanbayside.com
X-WR-CALDESC:Events for Silver Swan Bayside
REFRESH-INTERVAL;VALUE=DURATION:PT1H
X-Robots-Tag:noindex
X-PUBLISHED-TTL:PT1H
BEGIN:VTIMEZONE
TZID:UTC
BEGIN:STANDARD
TZOFFSETFROM:+0000
TZOFFSETTO:+0000
TZNAME:UTC
DTSTART:20230101T000000
END:STANDARD
END:VTIMEZONE
BEGIN:VEVENT
DTSTART;TZID=UTC:20240629T140000
DTEND;TZID=UTC:20240629T210000
DTSTAMP:20260423T071012
CREATED:20230531T203413Z
LAST-MODIFIED:20230531T203413Z
UID:3121-1719669600-1719694800@silverswanbayside.com
SUMMARY:Private Event
DESCRIPTION:
URL:https://silverswanbayside.com/event/private-event-37/
LOCATION:Silver Swan Bayside\, 412 Congressional Drive\, Stevensville\, MD\, 21666\, United States
CATEGORIES:Private Event
ORGANIZER;CN="Silver Swan Bayside + Chesapeake Chef Service":MAILTO:info@silverswanbaysideqam.com
END:VEVENT
END:VCALENDAR