BEGIN:VCALENDAR
VERSION:2.0
PRODID:-//Silver Swan Bayside - ECPv6.15.20//NONSGML v1.0//EN
CALSCALE:GREGORIAN
METHOD:PUBLISH
X-WR-CALNAME:Silver Swan Bayside
X-ORIGINAL-URL:https://silverswanbayside.com
X-WR-CALDESC:Events for Silver Swan Bayside
REFRESH-INTERVAL;VALUE=DURATION:PT1H
X-Robots-Tag:noindex
X-PUBLISHED-TTL:PT1H
BEGIN:VTIMEZONE
TZID:UTC
BEGIN:STANDARD
TZOFFSETFROM:+0000
TZOFFSETTO:+0000
TZNAME:UTC
DTSTART:20220101T000000
END:STANDARD
END:VTIMEZONE
BEGIN:VEVENT
DTSTART;TZID=UTC:20230510T173000
DTEND;TZID=UTC:20230510T193000
DTSTAMP:20260420T090153
CREATED:20230502T192208Z
LAST-MODIFIED:20230502T192415Z
UID:2670-1683739800-1683747000@silverswanbayside.com
SUMMARY:Family Dinner Night
DESCRIPTION:Join us for our Monthly Family Night \nAll you can eat Pizza Night!
URL:https://silverswanbayside.com/event/family-dinner-night/
LOCATION:Silver Swan Bayside\, 412 Congressional Drive\, Stevensville\, MD\, 21666\, United States
ORGANIZER;CN="Silver Swan Bayside + Chesapeake Chef Service":MAILTO:info@silverswanbaysideqam.com
END:VEVENT
BEGIN:VEVENT
DTSTART;TZID=UTC:20230507T090000
DTEND;TZID=UTC:20230507T170000
DTSTAMP:20260420T090153
CREATED:20230502T191559Z
LAST-MODIFIED:20230502T191559Z
UID:2667-1683450000-1683478800@silverswanbayside.com
SUMMARY:Private Event
DESCRIPTION:Wedding- Beach Closed to Public
URL:https://silverswanbayside.com/event/private-event-2/
END:VEVENT
BEGIN:VEVENT
DTSTART;TZID=UTC:20230505T150000
DTEND;TZID=UTC:20230505T220000
DTSTAMP:20260420T090153
CREATED:20230502T191418Z
LAST-MODIFIED:20230502T191648Z
UID:2665-1683298800-1683324000@silverswanbayside.com
SUMMARY:Private Event
DESCRIPTION:Wedding- Beach Closed
URL:https://silverswanbayside.com/event/private-event/
END:VEVENT
END:VCALENDAR