BEGIN:VCALENDAR
VERSION:2.0
PRODID:-//Silver Swan Bayside - ECPv6.15.20//NONSGML v1.0//EN
CALSCALE:GREGORIAN
METHOD:PUBLISH
X-WR-CALNAME:Silver Swan Bayside
X-ORIGINAL-URL:https://silverswanbayside.com
X-WR-CALDESC:Events for Silver Swan Bayside
REFRESH-INTERVAL;VALUE=DURATION:PT1H
X-Robots-Tag:noindex
X-PUBLISHED-TTL:PT1H
BEGIN:VTIMEZONE
TZID:America/New_York
BEGIN:DAYLIGHT
TZOFFSETFROM:-0500
TZOFFSETTO:-0400
TZNAME:EDT
DTSTART:20260308T070000
END:DAYLIGHT
BEGIN:STANDARD
TZOFFSETFROM:-0400
TZOFFSETTO:-0500
TZNAME:EST
DTSTART:20261101T060000
END:STANDARD
BEGIN:DAYLIGHT
TZOFFSETFROM:-0500
TZOFFSETTO:-0400
TZNAME:EDT
DTSTART:20270314T070000
END:DAYLIGHT
BEGIN:STANDARD
TZOFFSETFROM:-0400
TZOFFSETTO:-0500
TZNAME:EST
DTSTART:20271107T060000
END:STANDARD
BEGIN:DAYLIGHT
TZOFFSETFROM:-0500
TZOFFSETTO:-0400
TZNAME:EDT
DTSTART:20280312T070000
END:DAYLIGHT
BEGIN:STANDARD
TZOFFSETFROM:-0400
TZOFFSETTO:-0500
TZNAME:EST
DTSTART:20281105T060000
END:STANDARD
END:VTIMEZONE
BEGIN:VTIMEZONE
TZID:UTC
BEGIN:STANDARD
TZOFFSETFROM:+0000
TZOFFSETTO:+0000
TZNAME:UTC
DTSTART:20220101T000000
END:STANDARD
END:VTIMEZONE
BEGIN:VEVENT
DTSTART;TZID=America/New_York:20270501T150000
DTEND;TZID=America/New_York:20270501T220000
DTSTAMP:20260422T062643
CREATED:20260331T165335Z
LAST-MODIFIED:20260331T165335Z
UID:5839-1809183600-1809208800@silverswanbayside.com
SUMMARY:PRIVATE EVENT
DESCRIPTION:
URL:https://silverswanbayside.com/event/private-event-238/
END:VEVENT
BEGIN:VEVENT
DTSTART;TZID=UTC:20230612T190000
DTEND;TZID=UTC:20230612T210000
DTSTAMP:20260422T062643
CREATED:20230529T215227Z
LAST-MODIFIED:20230530T011819Z
UID:3049-1686596400-1686603600@silverswanbayside.com
SUMMARY:QAC HOA Board Meeting
DESCRIPTION:
URL:https://silverswanbayside.com/event/qac-hoa-board-meeting/
LOCATION:Silver Swan Bayside\, 412 Congressional Drive\, Stevensville\, MD\, 21666\, United States
CATEGORIES:Community Meeting/Event
ORGANIZER;CN="Queen Anne Colony HOA Board":MAILTO:hoa@queenannecolony.org
END:VEVENT
BEGIN:VEVENT
DTSTART;TZID=America/New_York:20270515T150000
DTEND;TZID=America/New_York:20270515T220000
DTSTAMP:20260422T062643
CREATED:20260331T165415Z
LAST-MODIFIED:20260331T165415Z
UID:5841-1810393200-1810418400@silverswanbayside.com
SUMMARY:PRIVATE EVENT
DESCRIPTION:
URL:https://silverswanbayside.com/event/private-event-250/
END:VEVENT
BEGIN:VEVENT
DTSTART;TZID=America/New_York:20270521T150000
DTEND;TZID=America/New_York:20270521T220000
DTSTAMP:20260422T062643
CREATED:20260331T165452Z
LAST-MODIFIED:20260331T165452Z
UID:5843-1810911600-1810936800@silverswanbayside.com
SUMMARY:PRIVATE EVENT
DESCRIPTION:
URL:https://silverswanbayside.com/event/private-event-251/
END:VEVENT
BEGIN:VEVENT
DTSTART;TZID=America/New_York:20270522T150000
DTEND;TZID=America/New_York:20270522T220000
DTSTAMP:20260422T062643
CREATED:20260129T211212Z
LAST-MODIFIED:20260129T211212Z
UID:5616-1810998000-1811023200@silverswanbayside.com
SUMMARY:PRIVATE EVENT
DESCRIPTION:
URL:https://silverswanbayside.com/event/private-event-245/
END:VEVENT
BEGIN:VEVENT
DTSTART;TZID=America/New_York:20270529T080000
DTEND;TZID=America/New_York:20270529T170000
DTSTAMP:20260422T062643
CREATED:20260331T165904Z
LAST-MODIFIED:20260331T165904Z
UID:5849-1811577600-1811610000@silverswanbayside.com
SUMMARY:PRIVATE EVENT
DESCRIPTION:
URL:https://silverswanbayside.com/event/private-event-190/
END:VEVENT
END:VCALENDAR